BEGIN:VCALENDAR
VERSION:2.0
PRODID:-//TM Television - ECPv6.15.11//NONSGML v1.0//EN
CALSCALE:GREGORIAN
METHOD:PUBLISH
X-ORIGINAL-URL:https://tmtel.com
X-WR-CALDESC:Events for TM Television
REFRESH-INTERVAL;VALUE=DURATION:PT1H
X-Robots-Tag:noindex
X-PUBLISHED-TTL:PT1H
BEGIN:VTIMEZONE
TZID:America/Chicago
BEGIN:DAYLIGHT
TZOFFSETFROM:-0600
TZOFFSETTO:-0500
TZNAME:CDT
DTSTART:20170312T080000
END:DAYLIGHT
BEGIN:STANDARD
TZOFFSETFROM:-0500
TZOFFSETTO:-0600
TZNAME:CST
DTSTART:20171105T070000
END:STANDARD
BEGIN:DAYLIGHT
TZOFFSETFROM:-0600
TZOFFSETTO:-0500
TZNAME:CDT
DTSTART:20180311T080000
END:DAYLIGHT
BEGIN:STANDARD
TZOFFSETFROM:-0500
TZOFFSETTO:-0600
TZNAME:CST
DTSTART:20181104T070000
END:STANDARD
BEGIN:DAYLIGHT
TZOFFSETFROM:-0600
TZOFFSETTO:-0500
TZNAME:CDT
DTSTART:20190310T080000
END:DAYLIGHT
BEGIN:STANDARD
TZOFFSETFROM:-0500
TZOFFSETTO:-0600
TZNAME:CST
DTSTART:20191103T070000
END:STANDARD
BEGIN:DAYLIGHT
TZOFFSETFROM:-0600
TZOFFSETTO:-0500
TZNAME:CDT
DTSTART:20200308T080000
END:DAYLIGHT
BEGIN:STANDARD
TZOFFSETFROM:-0500
TZOFFSETTO:-0600
TZNAME:CST
DTSTART:20201101T070000
END:STANDARD
BEGIN:DAYLIGHT
TZOFFSETFROM:-0600
TZOFFSETTO:-0500
TZNAME:CDT
DTSTART:20210314T080000
END:DAYLIGHT
BEGIN:STANDARD
TZOFFSETFROM:-0500
TZOFFSETTO:-0600
TZNAME:CST
DTSTART:20211107T070000
END:STANDARD
BEGIN:DAYLIGHT
TZOFFSETFROM:-0600
TZOFFSETTO:-0500
TZNAME:CDT
DTSTART:20220313T080000
END:DAYLIGHT
BEGIN:STANDARD
TZOFFSETFROM:-0500
TZOFFSETTO:-0600
TZNAME:CST
DTSTART:20221106T070000
END:STANDARD
BEGIN:DAYLIGHT
TZOFFSETFROM:-0600
TZOFFSETTO:-0500
TZNAME:CDT
DTSTART:20230312T080000
END:DAYLIGHT
BEGIN:STANDARD
TZOFFSETFROM:-0500
TZOFFSETTO:-0600
TZNAME:CST
DTSTART:20231105T070000
END:STANDARD
END:VTIMEZONE
BEGIN:VTIMEZONE
TZID:UTC
BEGIN:STANDARD
TZOFFSETFROM:+0000
TZOFFSETTO:+0000
TZNAME:UTC
DTSTART:20150101T000000
END:STANDARD
END:VTIMEZONE
BEGIN:VTIMEZONE
TZID:America/New_York
BEGIN:DAYLIGHT
TZOFFSETFROM:-0500
TZOFFSETTO:-0400
TZNAME:EDT
DTSTART:20170312T070000
END:DAYLIGHT
BEGIN:STANDARD
TZOFFSETFROM:-0400
TZOFFSETTO:-0500
TZNAME:EST
DTSTART:20171105T060000
END:STANDARD
BEGIN:DAYLIGHT
TZOFFSETFROM:-0500
TZOFFSETTO:-0400
TZNAME:EDT
DTSTART:20180311T070000
END:DAYLIGHT
BEGIN:STANDARD
TZOFFSETFROM:-0400
TZOFFSETTO:-0500
TZNAME:EST
DTSTART:20181104T060000
END:STANDARD
BEGIN:DAYLIGHT
TZOFFSETFROM:-0500
TZOFFSETTO:-0400
TZNAME:EDT
DTSTART:20190310T070000
END:DAYLIGHT
BEGIN:STANDARD
TZOFFSETFROM:-0400
TZOFFSETTO:-0500
TZNAME:EST
DTSTART:20191103T060000
END:STANDARD
END:VTIMEZONE
BEGIN:VEVENT
DTSTART;TZID=America/Chicago:20221101T090000
DTEND;TZID=America/Chicago:20221101T160000
DTSTAMP:20260423T155338
CREATED:20220829T203947Z
LAST-MODIFIED:20220829T203947Z
UID:13795-1667293200-1667318400@tmtel.com
SUMMARY:2022 Tech Expo
DESCRIPTION:TM Television Tech Expo is back and better than ever!\n\n\nThe TM Television Tech Expo 2022\nThe Expo will feature manufacturers and product experts from across the country demonstrating the most advanced media workflow solutions in the industry. \nWith your free registration\, you’ll have full access to exhibit booths\, seminars\, and demonstrations of advanced workflows. All guests will receive free lunch\, and the ability to connect with media professionals from across the entire spectrum of advanced video and audio production. \nEXPO SCHEDULE:\nTuesday\, November 1st\, 2022\n \n9:00 AM – Exhibits Open \n \nStay tuned – we’ll be adding the full seminar schedule over the next couple of weeks. Be sure to check back often! \n \n4:00 PM – Exhibits Close
URL:https://tmtel.com/event/2022-tech-expo/
LOCATION:Four Points by Sheraton Dallas Fort Worth Airport North\, 1580 Point West Boulevard\, Coppell\, TX\, 75019\, United States
CATEGORIES:DFW Events
END:VEVENT
BEGIN:VEVENT
DTSTART;TZID=America/Chicago:20220519T163000
DTEND;TZID=America/Chicago:20220519T190000
DTSTAMP:20260423T155338
CREATED:20220331T143222Z
LAST-MODIFIED:20220331T143222Z
UID:13694-1652977800-1652986800@tmtel.com
SUMMARY:Happy Hour @ Eight Row Flint
DESCRIPTION:  \n  \n  \n  \nJoin us at Eight Row Flint for drinks and apps. \nEight Row Flint\n1039 Yale Street\nHouston Heights\, TX 77008 \n  \nContact Rhett Fraizer for more information. 512-529-1853
URL:https://tmtel.com/event/happy-hour-erf/
LOCATION:Eight Row Flint\, 1039 Yale Street\, Houston Heights\, TX\, 77008\, United States
CATEGORIES:Houston Events
END:VEVENT
BEGIN:VEVENT
DTSTART;TZID=UTC:20191030T173000
DTEND;TZID=UTC:20191030T200000
DTSTAMP:20260423T155338
CREATED:20191014T232526Z
LAST-MODIFIED:20191029T235554Z
UID:13171-1572456600-1572465600@tmtel.com
SUMMARY:TM Television at Harold's Restaurant & Tap Room in Houston
DESCRIPTION:Join us at Harold’s Restaurant & Tap Room in Houston on October 30th from 5:30 PM to 8:00 PM. Enjoy appetizers\, drinks\, and conversation about the latest video products from Avid\, Ross\, and Sony. \n  \nRegister Here
URL:https://tmtel.com/event/tm-television-at-harolds-restaurant-tap-room-in-houston/
LOCATION:Harold’s\, 350 West 19th Street\, Houston\, TX\, 77008\, United States
CATEGORIES:Houston Events
END:VEVENT
BEGIN:VEVENT
DTSTART;TZID=UTC:20191029T173000
DTEND;TZID=UTC:20191029T200000
DTSTAMP:20260423T155338
CREATED:20191014T233252Z
LAST-MODIFIED:20191029T235649Z
UID:13175-1572370200-1572379200@tmtel.com
SUMMARY:TM Television at Churrascos Westchase in Houston
DESCRIPTION:Join us at Churrascos Westchase in Houston on October 29th from 5:30 PM to 8:00 PM. Enjoy appetizers\, drinks\, and conversation about the latest video products from Avid\, Ross\, and Sony. \n  \nRegister Here
URL:https://tmtel.com/event/tm-television-at-churrascos-westchase-in-houston/
LOCATION:Churrascos Westchase\, 9705 Westheimer Road\, Houston\, TX\, 77042\, United States
CATEGORIES:Houston Events
END:VEVENT
BEGIN:VEVENT
DTSTART;TZID=UTC:20191022T163000
DTEND;TZID=UTC:20191022T190000
DTSTAMP:20260423T155338
CREATED:20191010T013404Z
LAST-MODIFIED:20191010T013404Z
UID:13168-1571761800-1571770800@tmtel.com
SUMMARY:Celebrate 30 Years of Avid Media Composer in Oklahoma City!
DESCRIPTION:Celebrating 30 Years of Avid Media Composer \nThe Tool that Sparked a Digital Video Revolution \nJoin TM Television on October 22nd at Crabtown in Oklahoma City for an evening of cocktails and industry tall tales. \nWe’re looking back at where we’ve come over the past thirty years and where we are going with Avid’s new 2019 Media Composer release. \nRegister Here
URL:https://tmtel.com/event/celebrate-30-years-of-avid-media-composer-in-okc/
LOCATION:Crabtown\, 303 E. Sheridan\, OK\, 73104\, United States
CATEGORIES:Oklahoma Event
END:VEVENT
BEGIN:VEVENT
DTSTART;TZID=UTC:20191003T163000
DTEND;TZID=UTC:20191003T183000
DTSTAMP:20260423T155338
CREATED:20190918T213254Z
LAST-MODIFIED:20190918T213254Z
UID:13140-1570120200-1570127400@tmtel.com
SUMMARY:Celebrate 30 Years of Avid Media Composer in Dallas!
DESCRIPTION:Celebrating 30 Years of Avid Media Composer \nThe Tool that Sparked a Digital Video Revolution \nJoin TM Television on October 3rd at Bulla Gastropub in Plano for an evening of cocktails and industry tall tales with special guest Michael Fellows of Avid. \nWe’re looking back at where we’ve come over the past thirty years and where we are going with Avid’s new 2019 Media Composer release. \nRegister Here
URL:https://tmtel.com/event/celebrate-30-years-of-avid-media-composer-in-dallas/
LOCATION:Bulla Gastrobar\, 6007 Legacy Drive\, Plano\, TX\, 75024\, United States
CATEGORIES:DFW Events
END:VEVENT
BEGIN:VEVENT
DTSTART;TZID=UTC:20191002T163000
DTEND;TZID=UTC:20191002T183000
DTSTAMP:20260423T155338
CREATED:20190918T212706Z
LAST-MODIFIED:20190918T213355Z
UID:13134-1570033800-1570041000@tmtel.com
SUMMARY:Celebrate 30 Years of Avid Media Composer in Fort Worth!
DESCRIPTION:Celebrating 30 Years of Avid Media Composer \nThe Tool that Sparked a Digital Video Revolution \nJoin TM Television on October 2nd at The Social House in Fort Worth for an evening of cocktails and industry tall tales with special guest Michael Fellows of Avid. \nWe’re looking back at where we’ve come over the past thirty years and where we are going with Avid’s new 2019 Media Composer release. \nRegister Here\n 
URL:https://tmtel.com/event/celebrate-30-years-of-avid-media-composer-in-fort-worth/
LOCATION:The Social House\, 840 Currie Street\, Fort Worth\, TX\, 76107\, United States
CATEGORIES:DFW Events
END:VEVENT
BEGIN:VEVENT
DTSTART;TZID=UTC:20190813T100000
DTEND;TZID=UTC:20190813T110000
DTSTAMP:20260423T155338
CREATED:20190709T195410Z
LAST-MODIFIED:20190709T195410Z
UID:13102-1565690400-1565694000@tmtel.com
SUMMARY:Enhancing your team's Adobe Creative Cloud subscription - Webinar
DESCRIPTION:Are you part of a creative team using Adobe apps on a daily basis? \nWould you like to increase the overall productivity of your team and squeeze more value from your Creative Cloud subscription? \nJoin TM Television\, Evolphin\, and Lumenbrite for this webinar discussing solutions from technology to training that can revolutionize the way you work with your Adobe apps. \nRegister Here
URL:https://tmtel.com/event/enhancing-your-teams-adobe-creative-cloud-subscription-webinar/
LOCATION:TX
CATEGORIES:Online Events
END:VEVENT
BEGIN:VEVENT
DTSTART;VALUE=DATE:20190808
DTEND;VALUE=DATE:20190809
DTSTAMP:20260423T155338
CREATED:20190711T022128Z
LAST-MODIFIED:20190711T022128Z
UID:13108-1565222400-1565308799@tmtel.com
SUMMARY:TM Television booth at TAB 2019
DESCRIPTION:Come visit our booth on the TAB show floor!
URL:https://tmtel.com/event/tm-television-booth-at-tab-2019/
LOCATION:JW Marriott Downtown Austin\, 110 East 2nd Street\, Austin\, TX\, 78701\, United States
CATEGORIES:Austin Events
END:VEVENT
BEGIN:VEVENT
DTSTART;TZID=UTC:20190807T173000
DTEND;TZID=UTC:20190807T180000
DTSTAMP:20260423T155338
CREATED:20190711T021912Z
LAST-MODIFIED:20190711T021912Z
UID:13105-1565199000-1565200800@tmtel.com
SUMMARY:TAB Mix 'n' Mingle sponsored by Quantum
DESCRIPTION:Join us for a quick drink and some grub between official TAB events! \nWhen: Wednesday\, Aug 7th: Stop in and say hello at 5:30 before heading over to the official TAB kick-off party! \nWhere: The Edge Terrace at the J.W. Marriott \nSponsored by Quantum \nRegister Here
URL:https://tmtel.com/event/tab-mix-n-mingle-sponsored-by-quantum/
LOCATION:JW Marriott Downtown Austin\, 110 East 2nd Street\, Austin\, TX\, 78701\, United States
CATEGORIES:Austin Events
END:VEVENT
BEGIN:VEVENT
DTSTART;TZID=UTC:20190618T163000
DTEND;TZID=UTC:20190618T190000
DTSTAMP:20260423T155338
CREATED:20190508T211350Z
LAST-MODIFIED:20190508T211350Z
UID:12923-1560875400-1560884400@tmtel.com
SUMMARY:Production and Streaming of Live Events - Seminar at iPic Houston
DESCRIPTION:Join TM Television and our partners\, Panasonic and LIveU\, on Tuesday\, June 18th from 4:30 PM to 7:00 PM for an exploration of tools and workflows for production and streaming of live events. We’ll have drinks\, food\, and discussion – all for free at the Upper Tuck Lounge in the iPic Houston. \nRegister Here\nPanasonic\nDiscover how Panasonic technology can be utilized to bring your vision to life. Whether it’s broadcasting live breaking news\, shooting a cinematic masterpiece\, or producing a live event\, Panasonic can help you make it all possible. Come experience the latest advancements in video technology & demo all the newest gear. \nLiveU\nLiveU is driving the live video revolution\, providing live video streaming for TV\, mobile\, online and social media. Let your audience become part of your story with high-quality and flawless live video\, transmitted from anywhere in the world\, through the use of LiveU’s patented bonding and video transport technology.
URL:https://tmtel.com/event/production-and-streaming-of-live-events-seminar-at-ipic-houston/
LOCATION:iPIC Houston\, 4444 Westheimer Road\, Houston\, TX\, 77027\, United States
CATEGORIES:Houston Events
END:VEVENT
BEGIN:VEVENT
DTSTART;TZID=UTC:20190530T163000
DTEND;TZID=UTC:20190530T190000
DTSTAMP:20260423T155338
CREATED:20190508T210903Z
LAST-MODIFIED:20190508T210903Z
UID:12920-1559233800-1559242800@tmtel.com
SUMMARY:Production and Streaming of Live Events - Seminar at Barcadia in New Orleans
DESCRIPTION:Join TM Television and our partners\, Panasonic and LIveU\, on Thursday\, May 30th from 4:30 PM to 7:00 PM for an exploration of tools and workflows for production and streaming of live events. We’ll have drinks\, food\, and discussion – all for free at Barcadia in New Orleans. \nRegister Here\nPanasonic\nDiscover how Panasonic technology can be utilized to bring your vision to life. Whether it’s broadcasting live breaking news\, shooting a cinematic masterpiece\, or producing a live event\, Panasonic can help you make it all possible. Come experience the latest advancements in video technology & demo all the newest gear. \nLiveU\nLiveU is driving the live video revolution\, providing live video streaming for TV\, mobile\, online and social media. Let your audience become part of your story with high-quality and flawless live video\, transmitted from anywhere in the world\, through the use of LiveU’s patented bonding and video transport technology.
URL:https://tmtel.com/event/production-and-streaming-of-live-events-seminar-at-barcadia-in-new-orleans/
LOCATION:Barcadia\, 601 Tchoupitoulas Street\, New Orleans\, LA\, 70130\, United States
CATEGORIES:New Orleans
END:VEVENT
BEGIN:VEVENT
DTSTART;TZID=UTC:20190522T163000
DTEND;TZID=UTC:20190522T190000
DTSTAMP:20260423T155338
CREATED:20190508T210129Z
LAST-MODIFIED:20190508T210129Z
UID:12917-1558542600-1558551600@tmtel.com
SUMMARY:Production and Streaming of Live Events - Seminar in Austin
DESCRIPTION:Join us on Wednesday\, May 22nd at 4:30 PM to 7:00 PM for an intoxicating night of live streaming and ice creaming. We’ll be talking about how to produce and stream successful events with Panasonic and LiveU. \nRegister Here\nPanasonic\nDiscover how Panasonic technology can be utilized to bring your vision to life. Whether it’s broadcasting live breaking news\, shooting a cinematic masterpiece\, or producing a live event\, Panasonic can help you make it all possible. Come experience the latest advancements in video technology & demo all the newest gear. \nLiveU\nLiveU is driving the live video revolution\, providing live video streaming for TV\, mobile\, online and social media. Let your audience become part of your story with high-quality and flawless live video\, transmitted from anywhere in the world\, through the use of LiveU’s patented bonding and video transport technology.
URL:https://tmtel.com/event/production-and-streaming-of-live-events-seminar-in-austin/
LOCATION:Prohibition Creamery\, 1407 East 7th Street\, Austin\, TX\, 78702\, United States
CATEGORIES:Austin Events
END:VEVENT
BEGIN:VEVENT
DTSTART;TZID=UTC:20190521T110000
DTEND;TZID=UTC:20190521T130000
DTSTAMP:20260423T155338
CREATED:20190508T205414Z
LAST-MODIFIED:20190508T205654Z
UID:12913-1558436400-1558443600@tmtel.com
SUMMARY:Production and Streaming of Live Events Lunch-and-Learn
DESCRIPTION:Join TM Television and our partners\, Panasonic and LIveU\, on Tuesday\, May 21st from 11:00 AM to 1:00 PM for an exploration of tools and workflows for production and streaming of live events. We’ll have drinks\, food\, and discussion – all for free at our headquarters in Carrollton. \nRegister Here\nPanasonic\nDiscover how Panasonic technology can be utilized to bring your vision to life. Whether it’s broadcasting live breaking news\, shooting a cinematic masterpiece\, or producing a live event\, Panasonic can help you make it all possible. Come experience the latest advancements in video technology & demo all the newest gear. \nLiveU\nLiveU is driving the live video revolution\, providing live video streaming for TV\, mobile\, online and social media. Let your audience become part of your story with high-quality and flawless live video\, transmitted from anywhere in the world\, through the use of LiveU’s patented bonding and video transport technology.
URL:https://tmtel.com/event/production-and-streaming-of-live-events-lunch-and-learn/
LOCATION:TM Television\, 2440 Lacy Lane #110\, Suite 518\, Carrollton\, TX\, 75006\, United States
CATEGORIES:DFW Events
END:VEVENT
BEGIN:VEVENT
DTSTART;TZID=UTC:20190228T080000
DTEND;TZID=UTC:20190228T160000
DTSTAMP:20260423T155338
CREATED:20190109T045209Z
LAST-MODIFIED:20190109T045209Z
UID:12848-1551340800-1551369600@tmtel.com
SUMMARY:TM Television Tech Expo 2019
DESCRIPTION:The Tech Expo will feature manufacturers and product experts from across the country demonstrating the most advanced media workflow solutions in the industry. \nWith your free registration you’ll have full access to exhibit booths\, seminars and demonstrations of advanced workflows as well as special keynote speakers from the media production industry. Don’t miss this chance to connect with media professionals from across the entire spectrum of advanced video and audio production. \nRegister Here
URL:https://tmtel.com/event/tm-television-tech-expo-2019/
LOCATION:Four Points by Sheraton Dallas Fort Worth Airport North\, 1580 Point West Boulevard\, Coppell\, TX\, 75019\, United States
CATEGORIES:DFW Events
END:VEVENT
BEGIN:VEVENT
DTSTART;TZID=UTC:20181101T100000
DTEND;TZID=UTC:20181101T110000
DTSTAMP:20260423T155338
CREATED:20181015T210831Z
LAST-MODIFIED:20181015T212604Z
UID:12779-1541066400-1541070000@tmtel.com
SUMMARY:Evolphin and Sketch Integration for UX/UI Design Webinar
DESCRIPTION:Evolphin and Sketch.\nA Match Made In Design Heaven\nJoin us for a discusion about Evolphin Zoom\, a powerful media asset management solution\, and its integration with Sketch for UX/UI design. Evolphin Zoom provides one central hub where everything is kept organized and under control. From securely sharing your Sketch symbol library\, to enabling remote review and approval\, Evolphin Zoom and Sketch can work seemlessly together. \nRegister today and we’ll send you a link to the live webinar which starts on Thursday\, November 1st at 10:00 AM.
URL:https://tmtel.com/event/evolphin-and-sketch-integration-for-ux-ui-design-webinar/
LOCATION:TX
CATEGORIES:Online Events
ATTACH;FMTTYPE=image/jpeg:https://tmtel.com/wp-content/uploads/2018/10/EvolphinSketchWebinar.jpg
END:VEVENT
BEGIN:VEVENT
DTSTART;TZID=UTC:20181004T100000
DTEND;TZID=UTC:20181004T103000
DTSTAMP:20260423T155338
CREATED:20180911T004944Z
LAST-MODIFIED:20181002T211719Z
UID:12701-1538647200-1538649000@tmtel.com
SUMMARY:Sony NavigatorX Webinar
DESCRIPTION:Join TM Television’s Allan Barnwell on Thursday\, October 4th for an overview of Sony’s NavigatorX media asset management system. NavX orchestrates all phases of your content workflow – from ingest\, catalogue and editing to review\, approvals\, distribution and archive.\nUniquely flexible and effortlessly scalable\, it’s ideal for single-seat users and larger workgroups alike. Better still\, Media Backbone NavigatorX offers top-flight performance at a fraction the cost of other less capable Media Asset Management. \nRegister For Webinar Oct. 4th @ 10 AM\n 
URL:https://tmtel.com/event/sony-navigatorx-webinar/
LOCATION:TX
CATEGORIES:Online Events
ATTACH;FMTTYPE=image/jpeg:https://tmtel.com/wp-content/uploads/2018/09/NavXScreenShot.jpeg
END:VEVENT
BEGIN:VEVENT
DTSTART;TZID=UTC:20180921T080000
DTEND;TZID=UTC:20180922T170000
DTSTAMP:20260423T155338
CREATED:20180917T201941Z
LAST-MODIFIED:20180917T201941Z
UID:12731-1537516800-1537635600@tmtel.com
SUMMARY:TM Television Exhibiting at Big Design Conference in Dallas
DESCRIPTION:The biggest names in User Experience\, Game Design\, Usability\, Mobile Development\, User Research\, Content Strategy\, Social Media\, and Design Thinking converge in Dallas for three days. \nPre-conference and post-conference workshops are sold separately. \nYou will find speakers from these great companies:   \n\nAdobe\nAT&T\nBottle Rocket Apps\nCapital One\nGoogle\nMicrosoft\nKnowbility\nLincoln MK Series\nIntuit\nImproving\nSabre\n\n\nPast keynote speakers included: \n\nPhil Tippett (Three Time Oscar Winner)\nCandy Bernhardt (UX Director\, Capital One)\nBrandon Oldenburg (Oscar Winner 2012: Best Animated Short)\nRahel Anne Bailie (Content Strategist)\nAdam Polansky (UX Strategist\, Bottle Rocket Apps)\nSara Wachta-Boettcher (author\, Content Everywhere)\nNathan Shedroff (author of Make It So\, Making Meaning)\nSharron Rush (Executive Director\, Knowbility)\nJared Spool (UX guru\, design thinker\, leader)\nChris Fowler (Lighting Expert\, Pixar Studios)\nJon Kolko (Director\, Austin School of Design)
URL:https://tmtel.com/event/tm-television-exhibiting-at-big-design-conference-in-dallas/
LOCATION:TX
CATEGORIES:DFW Events
END:VEVENT
BEGIN:VEVENT
DTSTART;TZID=UTC:20180830T163000
DTEND;TZID=UTC:20180830T170000
DTSTAMP:20260423T155338
CREATED:20180825T001729Z
LAST-MODIFIED:20180825T001729Z
UID:12683-1535646600-1535648400@tmtel.com
SUMMARY:WirecastLive: Crossposting to Facebook Live with Jeff Sieh and Erik Fisher
DESCRIPTION:WirecastLive is a weekly live show hosted by Andrew Haley\, Product Marketing Manager at Telestream\, that covers Wirecast tips and techniques\, general live streaming & broadcasting\, and anything else we can think of. \nGo to the Telestream Facebook page to watch every Thursday at 4:30 CST.
URL:https://tmtel.com/event/wirecastlive-crossposting-to-facebook-live-with-jeff-sieh-and-erik-fisher/
LOCATION:TX
CATEGORIES:Online Events
END:VEVENT
BEGIN:VEVENT
DTSTART;TZID=UTC:20180830T110000
DTEND;TZID=UTC:20180830T120000
DTSTAMP:20260423T155338
CREATED:20180827T193542Z
LAST-MODIFIED:20180827T194829Z
UID:12686-1535626800-1535630400@tmtel.com
SUMMARY:IPV Curator and XenData deliver a Future Proof MAM/Archive
DESCRIPTION:IPV Curator delivers advanced Media Asset Management capabilities. Its integration with editing tools and ability to be deployed in any workflow allows you to do more with assets. The integration with XenData archives is made future-proof: assets are stored in a structured file-folder system that allows a user to search and find content\, even without Curator present.
URL:https://tmtel.com/event/ipv-curator-and-xendata-deliver-a-future-proof-mam-archive/
LOCATION:TX
CATEGORIES:Online Events
ATTACH;FMTTYPE=image/jpeg:https://tmtel.com/wp-content/uploads/2018/08/IPVCuratorBanner.jpg
END:VEVENT
BEGIN:VEVENT
DTSTART;TZID=America/Chicago:20180823T130000
DTEND;TZID=America/Chicago:20180823T133000
DTSTAMP:20260423T155338
CREATED:20180817T212243Z
LAST-MODIFIED:20180820T221202Z
UID:12541-1535029200-1535031000@tmtel.com
SUMMARY:Sony NavX for Sports Webinar
DESCRIPTION:Fast\, easy asset management for sports\n                \n              \n              \n                \n                  \n                \n              \n              \n                \n                  REGISTER FOR OUR CONTENT MANAGEMENT WEBINAR: AUGUST 23 @ 2:00PM EDT\n                \n              \n              \n                \n                  Managing sports assets is all about finding the perfect clips to convey the action and the drama of the moment. But how do you comb through hundreds or thousands of hours of footage with a deadline looming? How do you organize all of those camera angles and accommodate all of that detailed metadata? And how do you index and track all of the current athletes plus tens of thousands of historical clips? Bring order to the chaos with Sony's Media Backbone NavigatorX.\n                \n              \n              \n                \n                  \n                    \n                      \n                        \n                          REGISTER NOW ›\n                        \n                      \n                    \n                  \n                \n              \n              \n                \n                  \n                \n              \n              \n                \n                  Join us to see how NVX transforms sports production. We will demonstrate how simple it can be to organize and manage your assets\, create automated workflows and leverage metadata to access the exact frame you need. And we show how to integrate searches across an array of storage platforms: NAS\, Archive and Cloud\, including tight integration with our Ci Media Cloud Platform.\n                \n              \n              \n                \n                  \n                    \n                      \n                        \n                          Platform and file agnostic\n                        \n                        \n                          Time-saving tools\n                        \n                        \n                          Workflow friendly\n                        \n                      \n                    \n                  \n                \n              \n              \n                \n                  AUGUST 23 @ 2:00 PM EDT\n                \n              \n              \n                \n                  \n                    \n                      \n                        \n                          REGISTER NOW ›
URL:https://tmtel.com/event/sony-navx-for-sports-webinar/
LOCATION:TX
CATEGORIES:Online Events
END:VEVENT
BEGIN:VEVENT
DTSTART;TZID=America/New_York:20180802T173000
DTEND;TZID=America/New_York:20180802T180000
DTSTAMP:20260423T155338
CREATED:20180612T203938Z
LAST-MODIFIED:20180820T221312Z
UID:12482-1533231000-1533232800@tmtel.com
SUMMARY:TM Television TAB Mix 'n' Mingle
DESCRIPTION:  \nJoin us for a quick drink and some grub between official TAB events!\nWednesday\, Aug 1st: Stop in and say hello at 5:30 before heading over to the official TAB kick-off party!\nSponsored by Sony NavX \nThursday\, Aug 2nd: We’ll see you again – same Bat-time\, same Bat-channel! The Chairman’s Reception gets under way afterwards in the Nielsen Ballroom.\nSponsored by Avid \n  \n\n \nPowered by Eventbrite
URL:https://tmtel.com/event/tm-television-tab-mix-n-mingle/
LOCATION:Corner (in the J.W. Marriott)\, 110 East 2nd Street\, Austin\, TX\, 78701\, US
CATEGORIES:Austin Events
END:VEVENT
BEGIN:VEVENT
DTSTART;TZID=UTC:20180802T090000
DTEND;TZID=UTC:20180802T170000
DTSTAMP:20260423T155338
CREATED:20180612T230835Z
LAST-MODIFIED:20180820T221412Z
UID:12499-1533200400-1533229200@tmtel.com
SUMMARY:TAB Trade Show
DESCRIPTION:TAB’s Annual Convention & Trade Show returns to Austin\, August 1-2\, 2018 at the JW Marriot Downtown Austin! \nThe event\, which is the largest state broadcast meeting in the country\, features one and a half days of management\, engineering and sales programs and a 137-booth trade show with industry vendors from around the country. \nCome visit TM Television in booths 707 & 709\, on August 2nd. Use discount code TMT2018 for free entry to the trade show. Please note that this discount code will expire on July 23rd. Discount codes will not be accepted on-site. \n  \nRegister Now!\n 
URL:https://tmtel.com/event/tab-trade-show/
LOCATION:JW Marriott Downtown Austin\, 110 East 2nd Street\, Austin\, TX\, 78701\, United States
CATEGORIES:Austin Events
END:VEVENT
BEGIN:VEVENT
DTSTART;TZID=UTC:20160811T090000
DTEND;TZID=UTC:20160811T170000
DTSTAMP:20260423T155338
CREATED:20160510T204830Z
LAST-MODIFIED:20191113T041756Z
UID:1460-1470906000-1470934800@tmtel.com
SUMMARY:TAB Trade Show
DESCRIPTION:  \n  \n  \n  \n  \n  \nEverything is bigger in Texas! Come to the 63rd annual TAB Tradeshow. This event is the largest state broadcast association convention in the nation. Stop by and visit us in booths 93 & 94. \nYou can register for FREE to attend the trade show and product demos. (Does not include the keynote and other sessions.) \nUse discount code: TMT2016 \nRegister \nDiscount Code will EXPIRE on August 5! If you register after that date or on-site\, you will NOT receive the discount to register for the Trade Show and Product Demos Only and will be charged the standard rate of $40. \nWe hope to see you there!
URL:https://tmtel.com/event/tab/
LOCATION:TX
CATEGORIES:Austin Events
END:VEVENT
END:VCALENDAR